BEGIN:VCALENDAR
VERSION:2.0
PRODID:SchoolNow
CALSCALE:GREGORIAN
BEGIN:VEVENT
UID:41b6fe34-7d11-11ef-bcd7-0a58a9feac02
DTSTAMP:20241007T213702Z
SUMMARY:CDD Board Meeting - Oct. 11\, 2024 - Cancelled
LOCATION:Christ the King Lutheran Church\, located at 11421 Big Bend Road\,
  Riverview\, FL 33579
URL;VALUE=URI:https://www.southforkeastcdd.com/calendar/6704972/cdd-board-m
 eeting-oct-11-2024
DTSTART:20241011T220000Z
DTEND:20241011T230000Z
ATTACH;FILENAME=2024-10-11 SFE Agenda Resched from 2024-09-26.pdf;FMTTYPE=a
 pplication/pdf:https://campussuite-storage.s3.amazonaws.com/prod/1558943/f
 74722aa-f054-11e9-912d-0abf5a1e4186/2858737/179ce406-84d2-11ef-af4b-02ed2d
 1bd981/file/2024-10-11 SFE Agenda Resched from 2024-09-26.pdf
END:VEVENT
END:VCALENDAR
