BEGIN:VCALENDAR
VERSION:2.0
PRODID:SchoolNow
CALSCALE:GREGORIAN
BEGIN:VEVENT
UID:28da2870-745e-11ef-bb23-028b56d159a1
DTSTAMP:20241017T190809Z
SUMMARY:CDD Board Meeting - Oct. 2024
LOCATION:Christ the King Lutheran Church\, located at 11421 Big Bend Road\,
  Riverview\, FL 33579
URL;VALUE=URI:https://www.southforkeastcdd.com/calendar/6619286/cdd-board-m
 eeting-oct-2024
DTSTART:20241024T220000Z
DTEND:20241024T230000Z
ATTACH;FILENAME=2024-10-24 SFE  Agenda.pdf;FMTTYPE=application/pdf:https://
 campussuite-storage.s3.amazonaws.com/prod/1558943/f74722aa-f054-11e9-912d-
 0abf5a1e4186/2864777/22a3ee76-8cbb-11ef-adae-0a58a9feac02/file/2024-10-24 
 SFE  Agenda.pdf
END:VEVENT
END:VCALENDAR
