BEGIN:VCALENDAR
VERSION:2.0
PRODID:SchoolNow
CALSCALE:GREGORIAN
BEGIN:VEVENT
UID:99ae46ba-57e7-11ee-8b20-023852d1cdef
DTSTAMP:20240819T160245Z
SUMMARY:CDD Board Meeting - Aug. 2024
LOCATION:Christ the King Lutheran Church\, located at 11421 Big Bend Road\,
  Riverview\, FL 33579
URL;VALUE=URI:https://www.southforkeastcdd.com/calendar/4766616/cdd-board-m
 eeting-aug-2024
DTSTART:20240822T220000Z
DTEND:20240822T230000Z
ATTACH;FILENAME=2024-08-22 SFE Rev Agenda b.pdf;FMTTYPE=application/pdf:htt
 ps://campussuite-storage.s3.amazonaws.com/prod/1558943/f74722aa-f054-11e9-
 912d-0abf5a1e4186/2832579/72164454-5e44-11ef-8bcb-0a58a9feac02/file/2024-0
 8-22 SFE Rev Agenda b.pdf
END:VEVENT
END:VCALENDAR
