BEGIN:VCALENDAR
VERSION:2.0
PRODID:SchoolNow
CALSCALE:GREGORIAN
BEGIN:VEVENT
UID:8cd756f2-57e7-11ee-ada6-02774828289f
DTSTAMP:20240718T204008Z
SUMMARY:CDD Board Meeting - Jul. 2024
LOCATION:Christ the King Lutheran Church\, located at 11421 Big Bend Road\,
  Riverview\, FL 33579
URL;VALUE=URI:https://www.southforkeastcdd.com/calendar/4766615/cdd-board-m
 eeting-jul-2024
DTSTART:20240725T220000Z
DTEND:20240725T230000Z
ATTACH;FILENAME=2024-07-25 SFE Agenda .pdf;FMTTYPE=application/pdf:https://
 campussuite-storage.s3.amazonaws.com/prod/1558943/f74722aa-f054-11e9-912d-
 0abf5a1e4186/2820078/e791524a-4545-11ef-adf8-0afff631acdd/file/2024-07-25 
 SFE Agenda .pdf
END:VEVENT
END:VCALENDAR
