BEGIN:VCALENDAR
VERSION:2.0
PRODID:SchoolNow
CALSCALE:GREGORIAN
BEGIN:VEVENT
UID:82fa66f6-57e7-11ee-8bdb-0a58a9feac02
DTSTAMP:20240620T204922Z
SUMMARY:CDD Board Meeting - Jun. 2024
LOCATION:Christ the King Lutheran Church\, located at 11421 Big Bend Road\,
  Riverview\, FL 33579
URL;VALUE=URI:https://www.southforkeastcdd.com/calendar/4766614/cdd-board-m
 eeting-jun-2024
DTSTART:20240627T220000Z
DTEND:20240627T230000Z
ATTACH;FILENAME=2024-06-27 SFE Rev 3 Agenda.pdf;FMTTYPE=application/pdf:htt
 ps://campussuite-storage.s3.amazonaws.com/prod/1558943/f74722aa-f054-11e9-
 912d-0abf5a1e4186/2810278/8f705918-2f46-11ef-8b9f-0ee16e82ab5f/file/2024-0
 6-27 SFE Rev 3 Agenda.pdf
END:VEVENT
END:VCALENDAR
